BEGIN:VCALENDAR
VERSION:2.0
PRODID:-//Wisconsin School of Business - ECPv6.15.20//NONSGML v1.0//EN
CALSCALE:GREGORIAN
METHOD:PUBLISH
X-ORIGINAL-URL:https://business.wisc.edu
X-WR-CALDESC:Events for Wisconsin School of Business
REFRESH-INTERVAL;VALUE=DURATION:PT1H
X-Robots-Tag:noindex
X-PUBLISHED-TTL:PT1H
BEGIN:VTIMEZONE
TZID:America/Chicago
BEGIN:DAYLIGHT
TZOFFSETFROM:-0600
TZOFFSETTO:-0500
TZNAME:CDT
DTSTART:20230312T080000
END:DAYLIGHT
BEGIN:STANDARD
TZOFFSETFROM:-0500
TZOFFSETTO:-0600
TZNAME:CST
DTSTART:20231105T070000
END:STANDARD
BEGIN:DAYLIGHT
TZOFFSETFROM:-0600
TZOFFSETTO:-0500
TZNAME:CDT
DTSTART:20240310T080000
END:DAYLIGHT
BEGIN:STANDARD
TZOFFSETFROM:-0500
TZOFFSETTO:-0600
TZNAME:CST
DTSTART:20241103T070000
END:STANDARD
BEGIN:DAYLIGHT
TZOFFSETFROM:-0600
TZOFFSETTO:-0500
TZNAME:CDT
DTSTART:20250309T080000
END:DAYLIGHT
BEGIN:STANDARD
TZOFFSETFROM:-0500
TZOFFSETTO:-0600
TZNAME:CST
DTSTART:20251102T070000
END:STANDARD
END:VTIMEZONE
BEGIN:VEVENT
DTSTART;TZID=America/Chicago:20240918T120000
DTEND;TZID=America/Chicago:20240918T130000
DTSTAMP:20260421T165402
CREATED:20240815T173515Z
LAST-MODIFIED:20240815T173516Z
UID:10001229-1726660800-1726664400@business.wisc.edu
SUMMARY:Welcome Week Ice Cream Social
DESCRIPTION:Take a break in between classes to enjoy a sweet treat and to learn more about the Specialized Business Master’s programs at the Wisconsin School of Business! The MBA and Master’s Admissions Team will be tabling in the West Atrium in Grainger Hall. \n\n\n\nThis event does not require registration – stop by our table and say hi!
URL:https://business.wisc.edu/event/welcome-week-ice-cream-social/
LOCATION:Grainger Hall – West Atrium
CATEGORIES:Information Sessions,Master's in Accounting and Business Analysis,Master's in Arts and Creative Enterprise Leadership,Master's in Business Analytics,Master's in Real Estate,Master's in Supply Chain Management
ORGANIZER;CN="Master's Program Admissions Team":MAILTO:masters@wsb.wisc.edu
END:VEVENT
BEGIN:VEVENT
DTSTART;TZID=America/Chicago:20240917T090000
DTEND;TZID=America/Chicago:20240917T094500
DTSTAMP:20260421T165402
CREATED:20240815T175224Z
LAST-MODIFIED:20240815T204411Z
UID:10001240-1726563600-1726566300@business.wisc.edu
SUMMARY:Application Webinar
DESCRIPTION:Join the admissions team for a webinar designed to familiarize you with the admissions process for the Wisconsin specialized master’s programs\, and provide guidance on how to produce a competitive application. This is a virtual event.
URL:https://business.wisc.edu/event/application-webinar-2/
CATEGORIES:Application Support,Master's in Accounting and Business Analysis,Master's in Arts and Creative Enterprise Leadership,Master's in Business Analytics,Master's in Real Estate,Master's in Supply Chain Management
ORGANIZER;CN="Master's Program Admissions Team":MAILTO:masters@wsb.wisc.edu
END:VEVENT
BEGIN:VEVENT
DTSTART;TZID=America/Chicago:20240912T120000
DTEND;TZID=America/Chicago:20240912T124500
DTSTAMP:20260421T165402
CREATED:20240815T172847Z
LAST-MODIFIED:20240815T204437Z
UID:10001225-1726142400-1726145100@business.wisc.edu
SUMMARY:Chart Your Path: Master's Virtual Information Session
DESCRIPTION:Please join the admissions team at an information session to learn more about the master’s programs at Wisconsin\, the application process and understand how you can become a competitive candidate for admission. This is a virtual event.
URL:https://business.wisc.edu/event/chart-your-path-masters-virtual-information-session/
CATEGORIES:Information Sessions,Master's in Accounting and Business Analysis,Master's in Arts and Creative Enterprise Leadership,Master's in Business Analytics,Master's in Real Estate,Master's in Supply Chain Management
ORGANIZER;CN="Master's Program Admissions Team":MAILTO:masters@wsb.wisc.edu
END:VEVENT
BEGIN:VEVENT
DTSTART;TZID=America/Chicago:20240911T123000
DTEND;TZID=America/Chicago:20240911T130000
DTSTAMP:20260421T165402
CREATED:20240815T172342Z
LAST-MODIFIED:20240815T172343Z
UID:10001223-1726057800-1726059600@business.wisc.edu
SUMMARY:Master's in Data\, Insights\, and Analytics Information Session
DESCRIPTION:Join the virtual information session to learn about the new MS in Data\, Insights and Analytics program at the Wisconsin School of Business! During this webinar\, the Admissions team will be sharing information about the curriculum\, career outcomes\, and the admissions process
URL:https://business.wisc.edu/event/masters-in-data-insights-and-analytics-information-session/
CATEGORIES:Information Sessions,Master's in Data, Insights, and Analytics
ORGANIZER;CN="Master's Program Admissions Team":MAILTO:masters@wsb.wisc.edu
END:VEVENT
END:VCALENDAR