BEGIN:VCALENDAR
VERSION:2.0
PRODID:-//Wisconsin School of Business - ECPv6.15.20//NONSGML v1.0//EN
CALSCALE:GREGORIAN
METHOD:PUBLISH
X-ORIGINAL-URL:https://business.wisc.edu
X-WR-CALDESC:Events for Wisconsin School of Business
REFRESH-INTERVAL;VALUE=DURATION:PT1H
X-Robots-Tag:noindex
X-PUBLISHED-TTL:PT1H
BEGIN:VTIMEZONE
TZID:America/Chicago
BEGIN:DAYLIGHT
TZOFFSETFROM:-0600
TZOFFSETTO:-0500
TZNAME:CDT
DTSTART:20230312T080000
END:DAYLIGHT
BEGIN:STANDARD
TZOFFSETFROM:-0500
TZOFFSETTO:-0600
TZNAME:CST
DTSTART:20231105T070000
END:STANDARD
BEGIN:DAYLIGHT
TZOFFSETFROM:-0600
TZOFFSETTO:-0500
TZNAME:CDT
DTSTART:20240310T080000
END:DAYLIGHT
BEGIN:STANDARD
TZOFFSETFROM:-0500
TZOFFSETTO:-0600
TZNAME:CST
DTSTART:20241103T070000
END:STANDARD
BEGIN:DAYLIGHT
TZOFFSETFROM:-0600
TZOFFSETTO:-0500
TZNAME:CDT
DTSTART:20250309T080000
END:DAYLIGHT
BEGIN:STANDARD
TZOFFSETFROM:-0500
TZOFFSETTO:-0600
TZNAME:CST
DTSTART:20251102T070000
END:STANDARD
BEGIN:DAYLIGHT
TZOFFSETFROM:-0600
TZOFFSETTO:-0500
TZNAME:CDT
DTSTART:20260308T080000
END:DAYLIGHT
BEGIN:STANDARD
TZOFFSETFROM:-0500
TZOFFSETTO:-0600
TZNAME:CST
DTSTART:20261101T070000
END:STANDARD
END:VTIMEZONE
BEGIN:VEVENT
DTSTART;TZID=America/Chicago:20250404T134500
DTEND;TZID=America/Chicago:20250404T143000
DTSTAMP:20260423T163214
CREATED:20250130T150000Z
LAST-MODIFIED:20250127T161252Z
UID:10001459-1743774300-1743777000@business.wisc.edu
SUMMARY:Future Badger Day- Direct Admit Information Session
DESCRIPTION:Direct Admit Business Students are invited to attend the Undergraduate Business Information Session as part of Future Badger Day. Students will learn about their next steps to becoming Business Badgers and be able to interact with undergraduate program staff and students. This session will consist of a presentation about next steps and campus resources for direct admit students and a Q & A panel with Business program representatives. Come learn about your next steps to becoming a Business Badger!Register on Visit Bucky
URL:https://business.wisc.edu/event/future-badger-day-direct-admit-information-session/
LOCATION:Grainger Hall\, 975 University Avenue\, Madison\, WI\, 53706\, United States
CATEGORIES:Undergraduate,Undergraduate Admissions
END:VEVENT
BEGIN:VEVENT
DTSTART;TZID=America/Chicago:20250404T134500
DTEND;TZID=America/Chicago:20250404T143000
DTSTAMP:20260423T163214
CREATED:20250130T150000Z
LAST-MODIFIED:20250127T161502Z
UID:10001460-1743774300-1743777000@business.wisc.edu
SUMMARY:Future Badger Day- Pre- Business Information Session
DESCRIPTION:Pre-Business Students are invited to attend the Pre-Business Future Badger Day Information Session. This session will consist of a presentation with an Undergraduate Business Admissions Counselor and Q & A panel with undergraduate program staff and students. Guests will  have the opportunity to hear from our Pre-Business Advisors about the resources that are available to pre-business students seeking admission to the School of Business. Come learn about your next steps to becoming a Business Badger!Register on Visit Bucky
URL:https://business.wisc.edu/event/future-badger-day-pre-business-information-session-2/
LOCATION:Grainger Hall\, 975 University Avenue\, Madison\, WI\, 53706\, United States
CATEGORIES:Undergraduate,Undergraduate Admissions
END:VEVENT
BEGIN:VEVENT
DTSTART;TZID=America/Chicago:20250403T143000
DTEND;TZID=America/Chicago:20250403T160000
DTSTAMP:20260423T163214
CREATED:20250130T150000Z
LAST-MODIFIED:20250127T154921Z
UID:10001450-1743690600-1743696000@business.wisc.edu
SUMMARY:BBA Information Session
DESCRIPTION:Current high school students interested in the Wisconsin School of Business are invited to attend this group presentation that highlights our admission requirements\, academic majors\, employment outcomes\, and student services within the Wisconsin School of Business Undergraduate Program. The 1 hour presentation is facilitated by a Wisconsin BBA Admissions Counselor and current student followed by a 20 minute facilities tour. Come learn what it’s like to be a Business Badger!Register on Visit Bucky
URL:https://business.wisc.edu/event/bba-information-session-18/
LOCATION:Grainger Hall\, 975 University Avenue\, Madison\, WI\, 53706\, United States
CATEGORIES:Undergraduate,Undergraduate Admissions,Undergraduate Admissions Prospective High School Students
END:VEVENT
BEGIN:VEVENT
DTSTART;TZID=America/Chicago:20250314T134500
DTEND;TZID=America/Chicago:20250314T143000
DTSTAMP:20260423T163214
CREATED:20250130T150000Z
LAST-MODIFIED:20250127T161106Z
UID:10001457-1741959900-1741962600@business.wisc.edu
SUMMARY:Future Badger Day- Direct Admit Information Session
DESCRIPTION:Direct Admit Business Students are invited to attend the Undergraduate Business Information Session as part of Future Badger Day. Students will learn about their next steps to becoming Business Badgers and be able to interact with undergraduate program staff and students. This session will consist of a presentation about next steps and campus resources for direct admit students and a Q & A panel with Business program representatives. Come learn about your next steps to becoming a Business Badger! \n\n\n\nRegister on Visit Bucky
URL:https://business.wisc.edu/event/future-badger-day-direct-admit-session/
LOCATION:Grainger Hall\, 975 University Avenue\, Madison\, WI\, 53706\, United States
CATEGORIES:Undergraduate,Undergraduate Admissions
END:VEVENT
BEGIN:VEVENT
DTSTART;TZID=America/Chicago:20250314T134500
DTEND;TZID=America/Chicago:20250314T143000
DTSTAMP:20260423T163214
CREATED:20250130T150000Z
LAST-MODIFIED:20250127T161509Z
UID:10001458-1741959900-1741962600@business.wisc.edu
SUMMARY:Future Badger Day- Pre- Business Information Session
DESCRIPTION:Pre-Business Students are invited to attend the Pre-Business Future Badger Day Information Session. This session will consist of a presentation with an Undergraduate Business Admissions Counselor and Q & A panel with undergraduate program staff and students. Guests will  have the opportunity to hear from our Pre-Business Advisors about the resources that are available to pre-business students seeking admission to the School of Business. Come learn about your next steps to becoming a Business Badger!Register on Visit Bucky
URL:https://business.wisc.edu/event/future-badger-day-pre-business-information-session/
LOCATION:Grainger Hall\, 975 University Avenue\, Madison\, WI\, 53706\, United States
CATEGORIES:Undergraduate,Undergraduate Admissions
END:VEVENT
BEGIN:VEVENT
DTSTART;TZID=America/Chicago:20250221T143000
DTEND;TZID=America/Chicago:20250221T160000
DTSTAMP:20260423T163214
CREATED:20250130T150000Z
LAST-MODIFIED:20250127T154639Z
UID:10001449-1740148200-1740153600@business.wisc.edu
SUMMARY:BBA Information Session
DESCRIPTION:Current high school students interested in the Wisconsin School of Business are invited to attend this group presentation that highlights our admission requirements\, academic majors\, employment outcomes\, and student services within the Wisconsin School of Business Undergraduate Program. The 1 hour presentation is facilitated by a Wisconsin BBA Admissions Counselor and current student followed by a 20 minute facilities tour. Come learn what it’s like to be a Business Badger!Register on Visit Bucky
URL:https://business.wisc.edu/event/bba-information-session-17/
LOCATION:Grainger Hall\, 975 University Avenue\, Madison\, WI\, 53706\, United States
CATEGORIES:Undergraduate Admissions,Undergraduate Admissions Prospective High School Students
END:VEVENT
BEGIN:VEVENT
DTSTART;TZID=America/Chicago:20250214T143000
DTEND;TZID=America/Chicago:20250214T160000
DTSTAMP:20260423T163214
CREATED:20250130T150000Z
LAST-MODIFIED:20250127T154723Z
UID:10001448-1739543400-1739548800@business.wisc.edu
SUMMARY:BBA Information Session
DESCRIPTION:Current high school students interested in the Wisconsin School of Business are invited to attend this group presentation that highlights our admission requirements\, academic majors\, employment outcomes\, and student services within the Wisconsin School of Business Undergraduate Program. The 1 hour presentation is facilitated by a Wisconsin BBA Admissions Counselor and current student followed by a 20 minute facilities tour. Come learn what it’s like to be a Business Badger!Register on Visit Bucky
URL:https://business.wisc.edu/event/bba-information-session-16/
LOCATION:Grainger Hall\, 975 University Avenue\, Madison\, WI\, 53706\, United States
CATEGORIES:Undergraduate,Undergraduate Admissions,Undergraduate Admissions Prospective High School Students
END:VEVENT
BEGIN:VEVENT
DTSTART;TZID=America/Chicago:20241208T090000
DTEND;TZID=America/Chicago:20241208T160000
DTSTAMP:20260423T163214
CREATED:20240822T023112Z
LAST-MODIFIED:20240822T023113Z
UID:10001293-1733648400-1733673600@business.wisc.edu
SUMMARY:Change Forum
DESCRIPTION:Change is inevitable. As a leader\, it’s important to be intentional about creating positive change. This forum will walk students through the creation of a “Change Action Plan” to help them identify a change they’d like to see within a group or community and develop strategies for implementation. \n\n\n\nThis event counts as the Experiential Component of the Leading for Change badge. \n\n\n\nFree food included.
URL:https://business.wisc.edu/event/change-forum/
LOCATION:Grainger Hall\, 975 University Avenue\, Madison\, WI\, 53706\, United States
CATEGORIES:Change Forum,Undergraduate Leadership
ATTACH;FMTTYPE=image/png:https://business.wisc.edu/wp-content/uploads/2022/09/BBA_BusBadges_LFC_22.png
ORGANIZER;CN="Accenture Leadership Center":MAILTO:alc@wsb.wisc.edu
END:VEVENT
BEGIN:VEVENT
DTSTART;TZID=America/Chicago:20241109T090000
DTEND;TZID=America/Chicago:20241110T130000
DTSTAMP:20260423T163214
CREATED:20240822T020457Z
LAST-MODIFIED:20240822T020458Z
UID:10001285-1731142800-1731243600@business.wisc.edu
SUMMARY:Journey to Awareness: Crack the Puzzle of Unconscious Bias
DESCRIPTION:More details coming soon! \n\n\n\nThis event counts as the Experiential Component of the Inclusive Leadership badge. \n\n\n\nFree food included.
URL:https://business.wisc.edu/event/journey-to-awareness-crack-the-puzzle-of-unconscious-bias/
LOCATION:Grainger Hall\, 975 University Avenue\, Madison\, WI\, 53706\, United States
CATEGORIES:Inclusive Leadership Badge,Undergraduate Leadership
ATTACH;FMTTYPE=image/png:https://business.wisc.edu/wp-content/uploads/2022/09/BBA_BusBadges_IL_21.png
ORGANIZER;CN="Accenture Leadership Center":MAILTO:alc@wsb.wisc.edu
END:VEVENT
BEGIN:VEVENT
DTSTART;TZID=America/Chicago:20241107T080000
DTEND;TZID=America/Chicago:20241108T170000
DTSTAMP:20260423T163214
CREATED:20240910T171933Z
LAST-MODIFIED:20241031T175749Z
UID:10001306-1730966400-1731085200@business.wisc.edu
SUMMARY:Harrison Street/Capital One Private Equity Internal Case Competition
DESCRIPTION:Harrison Street and Capital One are sponsoring the Real Estate Private Equity’s second annual case competition. 60 students on 15 teams are participating this year\, with $11\,000 in prize money to the winning teams.  \n\n\n\nThursday\, November 7th \n\n\n\n1:00-3:30 pmPreliminary juding in team of three judges in Learning Center Rooms 3210A\, 3210B\, and 3210CEach team has a 30 minute presentation and Q&A– Presentation: 15 minutes– Q&A from judges: 10 minutes– Judge note-taking and prep for next case: 5 minutes3:30-4:00 pmJudges make recommendations to the Final Round4:00-5:30 pmHarrison Street presentation to the Real Estate Private Equity Class\, Grainger 23357:00-8:30 pmReception and Announcement of Finalists\, heavy appetizers and beverages at the Fluno Center\, 8th floor Skyview Room\n\n\n\nFriday\, November 8th \n\n\n\n9:00-11:00 amFinal Round Presentation\, Executive Dining Room\, 1266 Grainger Hall11:00-12:30 pmLunch and announcement of winners
URL:https://business.wisc.edu/event/harrison-streeet-private-equity-internal-case-competition/
LOCATION:Grainger Hall\, 975 University Avenue\, Madison\, WI\, 53706\, United States
CATEGORIES:Graaskamp Center
END:VEVENT
BEGIN:VEVENT
DTSTART;TZID=America/Chicago:20241102T100000
DTEND;TZID=America/Chicago:20241102T150000
DTSTAMP:20260423T163214
CREATED:20231004T232524Z
LAST-MODIFIED:20241029T150443Z
UID:10000883-1730541600-1730559600@business.wisc.edu
SUMMARY:Precollege Entrepreneurship Boot Camp
DESCRIPTION:FREE Entrepreneurship Boot Camp:\n\n\n\nThe Wisconsin School of Business (WSB) Precollege Program provides promising high school students the opportunity to explore business majors\, explore their identities\, and participate in applied learning activities. \n\n\n\nThe WSB Precollege program is partnering with StartUp Learning Community this Fall to offer High School students a FREE\, innovative\, fun\, in person entrepreneurship workshop on Saturday\, November 2nd\, from 10 am – 3pm at Grainger Hall\, located at 975 University Ave.\, Madison\, Wisconsin\, 53706. \n\n\n\nParticipants will work in teams to explore all stages of entrepreneurship from product design to creating a marketing pitch! \n\n\n\nLunch will be provided.   *There is no cost for this activity. This event is FREE for participants.* \n\n\n\n\n\nApplicant Requirements: \n\n\n\n\nApplicants must… (1) Commit to participating in the entire program activity \n\n\n\n (2) Be a high school student (currently in grades 9th\, 10th\, 11th\, or 12th grade)  \n\n\n\n(3) Identify as ONE of the following: \n\n\n\n\na first-generation college student (the first person in the family to attend college) and/or\n\n\n\na low-income student (defined as someone who receives free or reduced lunch).\n\n\n\n\nWSB Precollege will prioritize enrolling students who identify as low income or first generation. If you do not meet any of these participant requirements above\, you are still encouraged to register. \n\n\n\n*WSB Precollege has reached enrollment capacity and will no longer accept applications for this workshop. Please visit our website to learn more about other Precollege opportunities.
URL:https://business.wisc.edu/event/entrepreneurship-boot-camp/
LOCATION:Grainger Hall\, 975 University Avenue\, Madison\, WI\, 53706\, United States
CATEGORIES:WSB Precollege
ATTACH;FMTTYPE=image/jpeg:https://business.wisc.edu/wp-content/uploads/2023/10/BBA_BEL_Program_BadgerTank_0716_PLN3412.jpg
ORGANIZER;CN="WSB Precollege Program":MAILTO:wsbprecollege@wsb.wisc.edu
END:VEVENT
BEGIN:VEVENT
DTSTART;TZID=America/Chicago:20241019T000000
DTEND;TZID=America/Chicago:20241019T235959
DTSTAMP:20260423T163214
CREATED:20240822T012933Z
LAST-MODIFIED:20240822T013128Z
UID:10001277-1729296000-1729382399@business.wisc.edu
SUMMARY:ALC Leadership Conference
DESCRIPTION:Full day leadership conference focusing on the theme of “Trusted to Lead.” This conference will consist of guest speaker keynotes\, break-out session workshops\, panel of student leaders\, networking opportunities\, and more.  (exact time & locations TBD) \n\n\n\nThis event counts as the Experiential Component of the Personal Leadership Styles badge. \n\n\n\nFree food included.
URL:https://business.wisc.edu/event/alc-leadership-conference/
LOCATION:Grainger Hall\, 975 University Avenue\, Madison\, WI\, 53706\, United States
CATEGORIES:BBA Leadership Conference,Undergraduate Leadership
ATTACH;FMTTYPE=image/png:https://business.wisc.edu/wp-content/uploads/2022/09/BBA_BusBadges_PLS_21.png
ORGANIZER;CN="Accenture Leadership Center":MAILTO:alc@wsb.wisc.edu
END:VEVENT
BEGIN:VEVENT
DTSTART;TZID=America/Chicago:20240819T143000
DTEND;TZID=America/Chicago:20240819T160000
DTSTAMP:20260423T163214
CREATED:20240513T161734Z
LAST-MODIFIED:20240513T161735Z
UID:10001157-1724077800-1724083200@business.wisc.edu
SUMMARY:BBA Information Session
DESCRIPTION:Current high school students interested in the Wisconsin School of Business are invited to attend this group presentation that highlights our admission requirements\, academic majors\, employment outcomes\, and student services within the Wisconsin School of Business Undergraduate Program. This presentation facilitated by a Wisconsin BBA Admissions Counselor is followed by a 20 minute facilities tour. Come learn what it’s like to be a Business Badger! \n\n\n\nRegister for this session on Visit Bucky
URL:https://business.wisc.edu/event/bba-information-session-52/
LOCATION:Grainger Hall\, 975 University Avenue\, Madison\, WI\, 53706\, United States
CATEGORIES:Undergraduate,Undergraduate Admissions,Undergraduate Admissions Prospective High School Students
END:VEVENT
BEGIN:VEVENT
DTSTART;TZID=America/Chicago:20240816T143000
DTEND;TZID=America/Chicago:20240816T160000
DTSTAMP:20260423T163214
CREATED:20240513T161633Z
LAST-MODIFIED:20240513T161634Z
UID:10001156-1723818600-1723824000@business.wisc.edu
SUMMARY:BBA Information Session
DESCRIPTION:Current high school students interested in the Wisconsin School of Business are invited to attend this group presentation that highlights our admission requirements\, academic majors\, employment outcomes\, and student services within the Wisconsin School of Business Undergraduate Program. This presentation facilitated by a Wisconsin BBA Admissions Counselor is followed by a 20 minute facilities tour. Come learn what it’s like to be a Business Badger! \n\n\n\nRegister for this session on Visit Bucky
URL:https://business.wisc.edu/event/bba-information-session-51/
LOCATION:Grainger Hall\, 975 University Avenue\, Madison\, WI\, 53706\, United States
CATEGORIES:Undergraduate,Undergraduate Admissions,Undergraduate Admissions Prospective High School Students
END:VEVENT
END:VCALENDAR