BEGIN:VCALENDAR
VERSION:2.0
PRODID:-//Wisconsin School of Business - ECPv6.15.20//NONSGML v1.0//EN
CALSCALE:GREGORIAN
METHOD:PUBLISH
X-WR-CALNAME:Wisconsin School of Business
X-ORIGINAL-URL:https://business.wisc.edu
X-WR-CALDESC:Events for Wisconsin School of Business
REFRESH-INTERVAL;VALUE=DURATION:PT1H
X-Robots-Tag:noindex
X-PUBLISHED-TTL:PT1H
BEGIN:VTIMEZONE
TZID:America/Chicago
BEGIN:DAYLIGHT
TZOFFSETFROM:-0600
TZOFFSETTO:-0500
TZNAME:CDT
DTSTART:20250309T080000
END:DAYLIGHT
BEGIN:STANDARD
TZOFFSETFROM:-0500
TZOFFSETTO:-0600
TZNAME:CST
DTSTART:20251102T070000
END:STANDARD
BEGIN:DAYLIGHT
TZOFFSETFROM:-0600
TZOFFSETTO:-0500
TZNAME:CDT
DTSTART:20260308T080000
END:DAYLIGHT
BEGIN:STANDARD
TZOFFSETFROM:-0500
TZOFFSETTO:-0600
TZNAME:CST
DTSTART:20261101T070000
END:STANDARD
BEGIN:DAYLIGHT
TZOFFSETFROM:-0600
TZOFFSETTO:-0500
TZNAME:CDT
DTSTART:20270314T080000
END:DAYLIGHT
BEGIN:STANDARD
TZOFFSETFROM:-0500
TZOFFSETTO:-0600
TZNAME:CST
DTSTART:20271107T070000
END:STANDARD
END:VTIMEZONE
BEGIN:VEVENT
DTSTART;TZID=America/Chicago:20260512T173000
DTEND;TZID=America/Chicago:20260512T193000
DTSTAMP:20260419T082959
CREATED:20260302T173940Z
LAST-MODIFIED:20260414T210447Z
UID:10001800-1778607000-1778614200@business.wisc.edu
SUMMARY:Professional and Executive MBA Reception
DESCRIPTION:Please join us for an engaging Professional and Executive MBA Reception designed to connect aspiring leaders\, current students\, and distinguished alumni. This special evening will feature an information session that highlights the unique advantages of our Professional and Executive MBA programs\, followed by an alumni panel sharing real-world insights and career experiences.  \n\n\n\nGuests will have the opportunity to network with current students\, alumni\, staff\, and fellow professionals\, gaining valuable connections and perspectives on advancing their careers. The event concludes with a reception hour featuring complimentary food and refreshments (no alcohol)\, offering a relaxed environment to continue conversations and build your professional community.  \n\n\n\nDon’t miss this chance to discover how our MBA program at the Wisconsin School of Business can help you achieve your goals!
URL:https://business.wisc.edu/event/professional-and-executive-mba-reception-3/
LOCATION:The Great Dane Pub & Brewing Company\, 123 E Doty St\, Madison\, Wisconsin\, 53703\, United States
CATEGORIES:Executive MBA,Panels,Professional MBA
ORGANIZER;CN="MBA Admissions Team":MAILTO:mba@wsb.wisc.edu
END:VEVENT
END:VCALENDAR